BEGIN:VCALENDAR
VERSION:2.0
PRODID:-//ChamberMaster//Event Calendar 2.0//EN
METHOD:PUBLISH
X-PUBLISHED-TTL:P3D
REFRESH-INTERVAL:P3D
CALSCALE:GREGORIAN
BEGIN:VEVENT
DTSTART:20260522T140000Z
DTEND:20260522T210000Z
X-MICROSOFT-CDO-ALLDAYEVENT:FALSE
SUMMARY:CE Class - Basic Project Management
DESCRIPTION:Cost - $175\n\n\n\nSUHBA members may attend for FREE - contact the SUHBA office to get the promo code.\n\n\n\nThere will be six hours of Project Management.\n\n\n\nThis course explains how to effectively implement financial statements for decision making\, and company management. It explores what types of records are required\, the length of time they must be stored and effective solutions for accomplishing this goal. It identifies useful cash flow techniques. Points out pit falls and dangers associated with improper cash management\, and offers strategies for good cash management.\n\n\n\nQualifies for 6 contractor core credits\, 6 electrician & plumber professional credits. \n\n\n\nRegister HERE\n\n\n\nThank you to our Education Sponsors:\n\nPlatinum Sponsor: Richmond American Homes\n\nSilver Sponsor: Cole West\n\nBronze Sponsor: Perry Homes of Utah
X-ALT-DESC;FMTTYPE=text/html:<strong>Cost - $175</strong><br />\n<br />\nSUHBA members may attend for <strong>FREE</strong> - contact the SUHBA office to get the promo code.<br />\n<br />\nThere will be six hours of Project Management.<br />\n<br />\nThis course explains how to effectively implement financial statements for decision making\, and company management. It explores what types of records are required\, the length of time they must be stored and effective solutions for accomplishing this goal. It identifies useful cash flow techniques. Points out pit falls and dangers associated with improper cash management\, and offers strategies for good cash management.<br />\n<br />\nQualifies for 6 contractor core credits\, 6 electrician &amp\; plumber professional credits.&nbsp\;<br />\n<br />\n<a href="https://reg.learningstream.com/reg/event_page.aspx?ek=0090-0014-693527b7d3754d85965597d1a3a5e6f3"><span style="font-weight: bold\;"><font style="font-size: 18px\;">Register&nbsp\;HERE</font></span></a><br />\n<br />\nThank you to our Education Sponsors:<br />\n<span style="font-size: 16px\;"><strong>Platinum Sponsor: Richmond American Homes</strong></span><br />\n<strong style="font-size: 14px\;">Silver Sponsor: Cole West</strong><br />\n<strong style="font-size: 12px\;">Bronze Sponsor: Perry Homes of Utah</strong><br />\n<br />\n<br />\n&nbsp\;
LOCATION:SUHBA Office 301 N 200 E Ste 2A (Outside Education Entrance) St George\, UT 84770
UID:e.9588.26570
SEQUENCE:3
DTSTAMP:20260421T170619Z
URL:http://suhbaut.memberzone.com/events/details/ce-class-basic-project-management-26570
END:VEVENT

END:VCALENDAR
