BEGIN:VCALENDAR
VERSION:2.0
PRODID:-//ChamberMaster//Event Calendar 2.0//EN
METHOD:PUBLISH
X-PUBLISHED-TTL:P3D
REFRESH-INTERVAL:P3D
CALSCALE:GREGORIAN
BEGIN:VEVENT
DTSTART:20260520T140000Z
DTEND:20260522T223000Z
X-MICROSOFT-CDO-ALLDAYEVENT:FALSE
SUMMARY:25-Hour Pre-License Course
DESCRIPTION:Cost - $350\n\n \n\nWednesday\n\n8:00am    -  12:00pm  -  Lien Fundamentals and Contracts\n\n                                      Nathan Fisher / Dave Hunter  \n12:00pm  -  1:00pm    -  Lunch\n\n1:00pm    -  4:30pm    -  Insurance and Fair Labor Standards\n\n                                       Quade Peterson \n\n\n\nThursday\n\n8:00am    -  12:00pm  -  Accounting Essentials\n\n                                      Squire\n\n12:00pm  -  1:00pm    -  Lunch\n\n1:00pm    -  4:30pm    -  Accounting Essentials\n\n                                      Squire \n\n\n\nFriday\n\n8:00am  -  12:00pm  -  Basic Project Management\n\n                                      Ken Adams \n\n12:00pm  -  1:00pm    -  Lunch\n\n1:00pm    -  4:00pm    -  Basic Project Management\n\n                                      Ken Adams \n\n\n\n\n\n\nVisit utahhba.com for registration and more information.\n\n\n\nThank you to our Education Sponsors:\n\nPlatinum Sponsor: Richmond American Homes\n\nSilver Sponsor: Cole West\n\nBronze Sponsor: Perry Homes of Utah
X-ALT-DESC;FMTTYPE=text/html:<div><span style="font-weight: bold\;">Cost - $350</span><br />\n&nbsp\;\n<div>\n<div><span style="font-weight: bold\;"><u>Wednesday</u></span></div>\n\n<div>8:00am&nbsp\; &nbsp\; -&nbsp\; 12:00pm &nbsp\;- &nbsp\;Lien Fundamentals and Contracts<br />\n&nbsp\;&nbsp\;&nbsp\;&nbsp\;&nbsp\;&nbsp\;&nbsp\;&nbsp\;&nbsp\;&nbsp\;&nbsp\;&nbsp\;&nbsp\;&nbsp\;&nbsp\;&nbsp\;&nbsp\;&nbsp\;&nbsp\;&nbsp\;&nbsp\;&nbsp\;&nbsp\;&nbsp\;&nbsp\;&nbsp\;&nbsp\;&nbsp\;&nbsp\;&nbsp\;&nbsp\;&nbsp\;&nbsp\;&nbsp\;&nbsp\;&nbsp\;&nbsp\;&nbsp\;<span style="font-style: italic\;">Nathan Fisher /&nbsp\;Dave Hunter&nbsp\;&nbsp\;</span></div>\n12:00pm&nbsp\; -&nbsp\; 1:00pm&nbsp\; &nbsp\; - &nbsp\;Lunch\n\n<div>1:00pm&nbsp\; &nbsp\; -&nbsp\; 4:30pm&nbsp\; &nbsp\; - &nbsp\;Insurance and Fair Labor Standards<br />\n&nbsp\;&nbsp\;&nbsp\;&nbsp\;&nbsp\;&nbsp\;&nbsp\;&nbsp\;&nbsp\;&nbsp\;&nbsp\;&nbsp\;&nbsp\;&nbsp\;&nbsp\;&nbsp\;&nbsp\;&nbsp\;&nbsp\;&nbsp\;&nbsp\;&nbsp\;&nbsp\;&nbsp\;&nbsp\;&nbsp\;&nbsp\;&nbsp\;&nbsp\;&nbsp\;&nbsp\;&nbsp\;&nbsp\;&nbsp\;&nbsp\;&nbsp\;&nbsp\;&nbsp\;&nbsp\;<span style="font-style: italic\;">Quade Peterson&nbsp\;</span>\n\n<div><br />\n<span style="font-weight: bold\; text-decoration-line: underline\;">Thursday</span></div>\n\n<div>8:00am&nbsp\; &nbsp\; -&nbsp\; 12:00pm&nbsp\; -&nbsp\; Accounting Essentials<br />\n&nbsp\;&nbsp\;&nbsp\;&nbsp\;&nbsp\;&nbsp\;&nbsp\;&nbsp\;&nbsp\;&nbsp\;&nbsp\;&nbsp\;&nbsp\;&nbsp\;&nbsp\;&nbsp\;&nbsp\;&nbsp\;&nbsp\;&nbsp\;&nbsp\;&nbsp\;&nbsp\;&nbsp\;&nbsp\;&nbsp\;&nbsp\;&nbsp\;&nbsp\;&nbsp\;&nbsp\;&nbsp\;&nbsp\;&nbsp\;&nbsp\;&nbsp\;&nbsp\;&nbsp\;<span style="font-style: italic\;">Squire</span><br />\n12:00pm&nbsp\; -&nbsp\; 1:00pm&nbsp\; &nbsp\; - &nbsp\;Lunch</div>\n\n<div>1:00pm&nbsp\; &nbsp\; -&nbsp\; 4:30pm&nbsp\; &nbsp\; -&nbsp\; Accounting Essentials<br />\n&nbsp\; &nbsp\; &nbsp\; &nbsp\; &nbsp\; &nbsp\; &nbsp\; &nbsp\; &nbsp\; &nbsp\; &nbsp\; &nbsp\; &nbsp\; &nbsp\; &nbsp\; &nbsp\; &nbsp\; &nbsp\; &nbsp\; <em>Squire</em><span style="font-style: italic\;">&nbsp\;</span></div>\n\n<div><br />\n<span style="font-weight: bold\; text-decoration-line: underline\;">Friday</span></div>\n\n<div>8:00am&nbsp\; -&nbsp\; 12:00pm &nbsp\;- &nbsp\;Basic Project Management<br />\n&nbsp\;&nbsp\;&nbsp\;&nbsp\;&nbsp\;&nbsp\;&nbsp\;&nbsp\;&nbsp\;&nbsp\;&nbsp\;&nbsp\;&nbsp\;&nbsp\;&nbsp\;&nbsp\;&nbsp\;&nbsp\;&nbsp\;&nbsp\;&nbsp\;&nbsp\;&nbsp\;&nbsp\;&nbsp\;&nbsp\;&nbsp\;&nbsp\;&nbsp\;&nbsp\;&nbsp\;&nbsp\;&nbsp\;&nbsp\;&nbsp\;&nbsp\;&nbsp\;&nbsp\;<span style="font-style: italic\;">Ken Adams&nbsp\;</span></div>\n\n<div>12:00pm&nbsp\; -&nbsp\; 1:00pm&nbsp\; &nbsp\; - &nbsp\;Lunch</div>\n\n<div>1:00pm&nbsp\; &nbsp\; -&nbsp\; 4:00pm&nbsp\; &nbsp\; - &nbsp\;Basic Project Management<br />\n&nbsp\;&nbsp\;&nbsp\;&nbsp\;&nbsp\;&nbsp\;&nbsp\;&nbsp\;&nbsp\;&nbsp\;&nbsp\;&nbsp\;&nbsp\;&nbsp\;&nbsp\;&nbsp\;&nbsp\;&nbsp\;&nbsp\;&nbsp\;&nbsp\;&nbsp\;&nbsp\;&nbsp\;&nbsp\;&nbsp\;&nbsp\;&nbsp\;&nbsp\;&nbsp\;&nbsp\;&nbsp\;&nbsp\;&nbsp\;&nbsp\;&nbsp\;&nbsp\;&nbsp\;<span style="font-style: italic\;">Ken Adams&nbsp\;</span></div>\n</div>\n</div>\n</div>\n\n<div><br />\n<span background-color:="" font-size:="" merriweather="" style="font-family: ">Visit <a href="https://hbautah.com/education-by-location/25-hour-pre-license-locations"><span style="font-size:16px\;"><strong>utahhba.com</strong></span></a> for registration and more information.</span><br />\n<br />\nThank you to our Education Sponsors:<br />\n<span style="font-size: 16px\;"><strong>Platinum Sponsor: Richmond American Homes</strong></span><br />\n<strong style="font-size: 14px\;">Silver Sponsor: Cole West</strong><br />\n<strong style="font-size: 12px\;">Bronze Sponsor: Perry Homes of Utah</strong></div>\n
LOCATION:SUHBA Office 301 N 200 E Ste 2A (Outside Education Entrance) St. George\, UT 84770
UID:e.9588.26567
SEQUENCE:3
DTSTAMP:20260421T170632Z
URL:http://suhbaut.memberzone.com/events/details/25-hour-pre-license-course-26567
END:VEVENT

END:VCALENDAR
